BEGIN:VCALENDAR
VERSION:2.0
PRODID:-//Santa Fe Trail PTA Website - ECPv6.15.17.1//NONSGML v1.0//EN
CALSCALE:GREGORIAN
METHOD:PUBLISH
X-WR-CALNAME:Santa Fe Trail PTA Website
X-ORIGINAL-URL:https://sftpta.org
X-WR-CALDESC:Events for Santa Fe Trail PTA Website
REFRESH-INTERVAL;VALUE=DURATION:PT1H
X-Robots-Tag:noindex
X-PUBLISHED-TTL:PT1H
BEGIN:VTIMEZONE
TZID:UTC
BEGIN:STANDARD
TZOFFSETFROM:+0000
TZOFFSETTO:+0000
TZNAME:UTC
DTSTART:20230101T000000
END:STANDARD
END:VTIMEZONE
BEGIN:VEVENT
DTSTART;TZID=UTC:20241004T080000
DTEND;TZID=UTC:20241004T100000
DTSTAMP:20260421T032209
CREATED:20240905T055054Z
LAST-MODIFIED:20240905T055054Z
UID:683-1728028800-1728036000@sftpta.org
SUMMARY:SFT Fun Run
DESCRIPTION:
URL:https://sftpta.org/event/sft-fun-run-2/
LOCATION:Santa Fe Trail Elementary\, 7100 Lamar Ave\, Overland Park\, KS\, 66204\, United States
END:VEVENT
END:VCALENDAR