BEGIN:VCALENDAR
VERSION:2.0
PRODID:-//Santa Fe Trail PTA Website - ECPv6.15.17.1//NONSGML v1.0//EN
CALSCALE:GREGORIAN
METHOD:PUBLISH
X-ORIGINAL-URL:https://sftpta.org
X-WR-CALDESC:Events for Santa Fe Trail PTA Website
REFRESH-INTERVAL;VALUE=DURATION:PT1H
X-Robots-Tag:noindex
X-PUBLISHED-TTL:PT1H
BEGIN:VTIMEZONE
TZID:UTC
BEGIN:STANDARD
TZOFFSETFROM:+0000
TZOFFSETTO:+0000
TZNAME:UTC
DTSTART:20230101T000000
END:STANDARD
END:VTIMEZONE
BEGIN:VEVENT
DTSTART;VALUE=DATE:20241015
DTEND;VALUE=DATE:20241016
DTSTAMP:20260421T032524
CREATED:20240905T060219Z
LAST-MODIFIED:20240905T060219Z
UID:695-1728950400-1729036799@sftpta.org
SUMMARY:National PTA Reflections Contest Entries Due
DESCRIPTION:
URL:https://sftpta.org/event/national-pta-reflections-contest-entries-due/
LOCATION:Santa Fe Trail Elementary\, 7100 Lamar Ave\, Overland Park\, KS\, 66204\, United States
END:VEVENT
BEGIN:VEVENT
DTSTART;TZID=UTC:20241015T180000
DTEND;TZID=UTC:20241015T200000
DTSTAMP:20260421T032524
CREATED:20240905T060518Z
LAST-MODIFIED:20240905T060518Z
UID:701-1729015200-1729022400@sftpta.org
SUMMARY:SFT Skate Party
DESCRIPTION:
URL:https://sftpta.org/event/sft-skate-party/
LOCATION:Skate City\, 9800 W 62nd Terrace\, Merriam\, KS\, 66203\, United States
END:VEVENT
END:VCALENDAR