BEGIN:VCALENDAR
VERSION:2.0
PRODID:-//Santa Fe Trail PTA Website - ECPv6.15.17.1//NONSGML v1.0//EN
CALSCALE:GREGORIAN
METHOD:PUBLISH
X-ORIGINAL-URL:https://sftpta.org
X-WR-CALDESC:Events for Santa Fe Trail PTA Website
REFRESH-INTERVAL;VALUE=DURATION:PT1H
X-Robots-Tag:noindex
X-PUBLISHED-TTL:PT1H
BEGIN:VTIMEZONE
TZID:UTC
BEGIN:STANDARD
TZOFFSETFROM:+0000
TZOFFSETTO:+0000
TZNAME:UTC
DTSTART:20230101T000000
END:STANDARD
END:VTIMEZONE
BEGIN:VEVENT
DTSTART;TZID=UTC:20241210T180000
DTEND;TZID=UTC:20241210T200000
DTSTAMP:20260421T032403
CREATED:20240905T061426Z
LAST-MODIFIED:20240905T061426Z
UID:721-1733853600-1733860800@sftpta.org
SUMMARY:SFT Skate Party
DESCRIPTION:
URL:https://sftpta.org/event/sft-skate-party-2/
LOCATION:Skate City\, 9800 W 62nd Terrace\, Merriam\, KS\, 66203\, United States
END:VEVENT
END:VCALENDAR