BEGIN:VCALENDAR
VERSION:2.0
PRODID:-//Santa Fe Trail PTA Website - ECPv6.15.17.1//NONSGML v1.0//EN
CALSCALE:GREGORIAN
METHOD:PUBLISH
X-WR-CALNAME:Santa Fe Trail PTA Website
X-ORIGINAL-URL:https://sftpta.org
X-WR-CALDESC:Events for Santa Fe Trail PTA Website
REFRESH-INTERVAL;VALUE=DURATION:PT1H
X-Robots-Tag:noindex
X-PUBLISHED-TTL:PT1H
BEGIN:VTIMEZONE
TZID:UTC
BEGIN:STANDARD
TZOFFSETFROM:+0000
TZOFFSETTO:+0000
TZNAME:UTC
DTSTART:20240101T000000
END:STANDARD
END:VTIMEZONE
BEGIN:VEVENT
DTSTART;TZID=UTC:20250822T180000
DTEND;TZID=UTC:20250822T200000
DTSTAMP:20260423T083809
CREATED:20250807T075526Z
LAST-MODIFIED:20250807T075526Z
UID:929-1755885600-1755892800@sftpta.org
SUMMARY:PTA Family Fun Night: Back to School Bash (6–8 PM on the Blacktop at SFT)
DESCRIPTION:
URL:https://sftpta.org/event/pta-family-fun-night-back-to-school-bash-6-8-pm-on-the-blacktop-at-sft/
LOCATION:Santa Fe Trail Elementary\, 7100 Lamar Ave\, Overland Park\, KS\, 66204\, United States
END:VEVENT
END:VCALENDAR