BEGIN:VCALENDAR
VERSION:2.0
PRODID:-//Santa Fe Trail PTA Website - ECPv6.15.17.1//NONSGML v1.0//EN
CALSCALE:GREGORIAN
METHOD:PUBLISH
X-ORIGINAL-URL:https://sftpta.org
X-WR-CALDESC:Events for Santa Fe Trail PTA Website
REFRESH-INTERVAL;VALUE=DURATION:PT1H
X-Robots-Tag:noindex
X-PUBLISHED-TTL:PT1H
BEGIN:VTIMEZONE
TZID:UTC
BEGIN:STANDARD
TZOFFSETFROM:+0000
TZOFFSETTO:+0000
TZNAME:UTC
DTSTART:20230101T000000
END:STANDARD
END:VTIMEZONE
BEGIN:VEVENT
DTSTART;VALUE=DATE:20240904
DTEND;VALUE=DATE:20240905
DTSTAMP:20260421T032516
CREATED:20240812T052630Z
LAST-MODIFIED:20240812T053559Z
UID:653-1725408000-1725494399@sftpta.org
SUMMARY:District Papa John's Night
DESCRIPTION:
URL:https://sftpta.org/event/district-papa-johns-night/
END:VEVENT
BEGIN:VEVENT
DTSTART;TZID=UTC:20240906T180000
DTEND;TZID=UTC:20240906T200000
DTSTAMP:20260421T032516
CREATED:20240812T052744Z
LAST-MODIFIED:20240812T055659Z
UID:655-1725645600-1725652800@sftpta.org
SUMMARY:SFT Family Fun Night
DESCRIPTION:
URL:https://sftpta.org/event/sft-family-fun-night/
LOCATION:Santa Fe Trail Elementary\, 7100 Lamar Ave\, Overland Park\, KS\, 66204\, United States
END:VEVENT
BEGIN:VEVENT
DTSTART;TZID=UTC:20240910T180000
DTEND;TZID=UTC:20240910T190000
DTSTAMP:20260421T032516
CREATED:20240812T052846Z
LAST-MODIFIED:20240812T052846Z
UID:657-1725991200-1725994800@sftpta.org
SUMMARY:PTA Meeting - All Welcome
DESCRIPTION:SFT Library
URL:https://sftpta.org/event/pta-meeting-all-welcome/
LOCATION:Santa Fe Trail Elementary\, 7100 Lamar Ave\, Overland Park\, KS\, 66204\, United States
END:VEVENT
BEGIN:VEVENT
DTSTART;TZID=UTC:20240911T160000
DTEND;TZID=UTC:20240911T210000
DTSTAMP:20260421T032516
CREATED:20240910T035132Z
LAST-MODIFIED:20240910T035132Z
UID:729-1726070400-1726088400@sftpta.org
SUMMARY:Why Cook Wednesday: Raising Cane's
DESCRIPTION:Mention SFT WCW and 15% of sales will be donated to SFT PTA!
URL:https://sftpta.org/event/why-cook-wednesday-raising-canes-2/
LOCATION:Raising Cane’s\, 10704 Shawnee Mission Parkway\, Shawnee\, KS\, 66203\, United States
END:VEVENT
BEGIN:VEVENT
DTSTART;TZID=UTC:20240918T163000
DTEND;TZID=UTC:20240918T183000
DTSTAMP:20260421T032516
CREATED:20240905T060041Z
LAST-MODIFIED:20240905T060041Z
UID:691-1726677000-1726684200@sftpta.org
SUMMARY:SFT Walks in Shawnee Mission North Homecoming Parade
DESCRIPTION:
URL:https://sftpta.org/event/sft-walks-in-shawnee-mission-north-homecoming-parade/
LOCATION:Shawnee Mission North\, 7401 Johnson Dr\, Overland Park\, KS\, 66202\, United States
END:VEVENT
BEGIN:VEVENT
DTSTART;TZID=UTC:20240920T170000
DTEND;TZID=UTC:20240920T210000
DTSTAMP:20260421T032516
CREATED:20240905T060132Z
LAST-MODIFIED:20240905T060132Z
UID:693-1726851600-1726866000@sftpta.org
SUMMARY:SFT Night at Shawnee Mission North Football Game
DESCRIPTION:
URL:https://sftpta.org/event/sft-night-at-shawnee-mission-north-football-game/
LOCATION:Shawnee Mission North\, 7401 Johnson Dr\, Overland Park\, KS\, 66202\, United States
END:VEVENT
BEGIN:VEVENT
DTSTART;VALUE=DATE:20240930
DTEND;VALUE=DATE:20241001
DTSTAMP:20260421T032516
CREATED:20240905T055924Z
LAST-MODIFIED:20240905T055924Z
UID:689-1727654400-1727740799@sftpta.org
SUMMARY:Picture Day
DESCRIPTION:
URL:https://sftpta.org/event/picture-day-2/
LOCATION:Santa Fe Trail Elementary\, 7100 Lamar Ave\, Overland Park\, KS\, 66204\, United States
END:VEVENT
END:VCALENDAR